BEGIN:VCALENDAR
VERSION:2.0
PRODID:-//Braeloch Homeowners Association - ECPv6.15.18//NONSGML v1.0//EN
CALSCALE:GREGORIAN
METHOD:PUBLISH
X-WR-CALNAME:Braeloch Homeowners Association
X-ORIGINAL-URL:https://braeloch-hoa.org
X-WR-CALDESC:Events for Braeloch Homeowners Association
REFRESH-INTERVAL;VALUE=DURATION:PT1H
X-Robots-Tag:noindex
X-PUBLISHED-TTL:PT1H
BEGIN:VTIMEZONE
TZID:America/New_York
BEGIN:DAYLIGHT
TZOFFSETFROM:-0500
TZOFFSETTO:-0400
TZNAME:EDT
DTSTART:20230312T070000
END:DAYLIGHT
BEGIN:STANDARD
TZOFFSETFROM:-0400
TZOFFSETTO:-0500
TZNAME:EST
DTSTART:20231105T060000
END:STANDARD
BEGIN:DAYLIGHT
TZOFFSETFROM:-0500
TZOFFSETTO:-0400
TZNAME:EDT
DTSTART:20240310T070000
END:DAYLIGHT
BEGIN:STANDARD
TZOFFSETFROM:-0400
TZOFFSETTO:-0500
TZNAME:EST
DTSTART:20241103T060000
END:STANDARD
BEGIN:DAYLIGHT
TZOFFSETFROM:-0500
TZOFFSETTO:-0400
TZNAME:EDT
DTSTART:20250309T070000
END:DAYLIGHT
BEGIN:STANDARD
TZOFFSETFROM:-0400
TZOFFSETTO:-0500
TZNAME:EST
DTSTART:20251102T060000
END:STANDARD
END:VTIMEZONE
BEGIN:VEVENT
DTSTART;TZID=America/New_York:20240418T183000
DTEND;TZID=America/New_York:20240418T193000
DTSTAMP:20260422T100920
CREATED:20240215T232905Z
LAST-MODIFIED:20240418T160439Z
UID:435-1713465000-1713468600@braeloch-hoa.org
SUMMARY:HOA Board Meeting 2024-04-18 @ 6:30PM (Updated)
DESCRIPTION:Agenda may be found by clicking here (Last Updated: 2024-04-12) \n\n\n\nIncluded is the 2024 Landscaping Committee proposal and the new rules and guidelines for the Homeowner Forum portion of the meeting. If you have any feedback prior to the meeting please review the agenda and send feedback to braelochboardhoa@gmail.com. \n\nJoin with Google Meet: https://meet.google.com/bzr-uhdq-hzhOr dial: (US) +1 929-276-0454 PIN: 536719764#More phone numbers: https://tel.meet/bzr-uhdq-hzh?pin=9618920702630&hs=7
URL:https://braeloch-hoa.org/event/2024-meeting-1/
LOCATION:Zoom meeting\, Cary\, NC\, United States
CATEGORIES:Meeting
END:VEVENT
END:VCALENDAR