BEGIN:VCALENDAR
VERSION:2.0
PRODID:-//Braeloch Homeowners Association - ECPv6.15.18//NONSGML v1.0//EN
CALSCALE:GREGORIAN
METHOD:PUBLISH
X-WR-CALNAME:Braeloch Homeowners Association
X-ORIGINAL-URL:https://braeloch-hoa.org
X-WR-CALDESC:Events for Braeloch Homeowners Association
REFRESH-INTERVAL;VALUE=DURATION:PT1H
X-Robots-Tag:noindex
X-PUBLISHED-TTL:PT1H
BEGIN:VTIMEZONE
TZID:America/New_York
BEGIN:DAYLIGHT
TZOFFSETFROM:-0500
TZOFFSETTO:-0400
TZNAME:EDT
DTSTART:20230312T070000
END:DAYLIGHT
BEGIN:STANDARD
TZOFFSETFROM:-0400
TZOFFSETTO:-0500
TZNAME:EST
DTSTART:20231105T060000
END:STANDARD
BEGIN:DAYLIGHT
TZOFFSETFROM:-0500
TZOFFSETTO:-0400
TZNAME:EDT
DTSTART:20240310T070000
END:DAYLIGHT
BEGIN:STANDARD
TZOFFSETFROM:-0400
TZOFFSETTO:-0500
TZNAME:EST
DTSTART:20241103T060000
END:STANDARD
BEGIN:DAYLIGHT
TZOFFSETFROM:-0500
TZOFFSETTO:-0400
TZNAME:EDT
DTSTART:20250309T070000
END:DAYLIGHT
BEGIN:STANDARD
TZOFFSETFROM:-0400
TZOFFSETTO:-0500
TZNAME:EST
DTSTART:20251102T060000
END:STANDARD
END:VTIMEZONE
BEGIN:VEVENT
DTSTART;TZID=America/New_York:20240912T183000
DTEND;TZID=America/New_York:20240912T193000
DTSTAMP:20260422T043319
CREATED:20240215T233201Z
LAST-MODIFIED:20240912T165407Z
UID:439-1726165800-1726169400@braeloch-hoa.org
SUMMARY:HOA Board Meeting 2024-09-12 @ 6:30PM
DESCRIPTION:2024-09-12 – Meeting Agenda \n \n\n\n\nJoin with Google Meet: https://meet.google.com/eft-dkis-oxg \nOr dial: (US) +1 908-738-1331 PIN: 683857218# \nLearn more about Meet at: https://support.google.com/a/users/answer/9282720
URL:https://braeloch-hoa.org/event/2024-meeting-3/
LOCATION:Zoom meeting\, Cary\, NC\, United States
CATEGORIES:Meeting
END:VEVENT
BEGIN:VEVENT
DTSTART;TZID=America/New_York:20240912T193000
DTEND;TZID=America/New_York:20240912T200000
DTSTAMP:20260422T043319
CREATED:20240912T160501Z
LAST-MODIFIED:20240912T165159Z
UID:690-1726169400-1726171200@braeloch-hoa.org
SUMMARY:HOA Executive Session 2024-09-12
DESCRIPTION:Topic: Violations
URL:https://braeloch-hoa.org/event/hoa-executive-session-2024-09-12/
CATEGORIES:Meeting
END:VEVENT
END:VCALENDAR