BEGIN:VCALENDAR
VERSION:2.0
PRODID:-//Braeloch Homeowners Association - ECPv6.15.18//NONSGML v1.0//EN
CALSCALE:GREGORIAN
METHOD:PUBLISH
X-WR-CALNAME:Braeloch Homeowners Association
X-ORIGINAL-URL:https://braeloch-hoa.org
X-WR-CALDESC:Events for Braeloch Homeowners Association
REFRESH-INTERVAL;VALUE=DURATION:PT1H
X-Robots-Tag:noindex
X-PUBLISHED-TTL:PT1H
BEGIN:VTIMEZONE
TZID:America/New_York
BEGIN:DAYLIGHT
TZOFFSETFROM:-0500
TZOFFSETTO:-0400
TZNAME:EDT
DTSTART:20220313T070000
END:DAYLIGHT
BEGIN:STANDARD
TZOFFSETFROM:-0400
TZOFFSETTO:-0500
TZNAME:EST
DTSTART:20221106T060000
END:STANDARD
BEGIN:DAYLIGHT
TZOFFSETFROM:-0500
TZOFFSETTO:-0400
TZNAME:EDT
DTSTART:20230312T070000
END:DAYLIGHT
BEGIN:STANDARD
TZOFFSETFROM:-0400
TZOFFSETTO:-0500
TZNAME:EST
DTSTART:20231105T060000
END:STANDARD
BEGIN:DAYLIGHT
TZOFFSETFROM:-0500
TZOFFSETTO:-0400
TZNAME:EDT
DTSTART:20240310T070000
END:DAYLIGHT
BEGIN:STANDARD
TZOFFSETFROM:-0400
TZOFFSETTO:-0500
TZNAME:EST
DTSTART:20241103T060000
END:STANDARD
END:VTIMEZONE
BEGIN:VEVENT
DTSTART;TZID=America/New_York:20230208T183000
DTEND;TZID=America/New_York:20230208T193000
DTSTAMP:20260422T075250
CREATED:20230120T192210Z
LAST-MODIFIED:20230121T005326Z
UID:39-1675881000-1675884600@braeloch-hoa.org
SUMMARY:2023 Annual Meeting
DESCRIPTION:The Annual Meeting of the Braeloch Homeowners Association will be held at 6:30 PM on Wednesday\, February 8\, 2023 via Zoom. The sole purpose of the meeting is to 1) Elect 2 new board members for expiring terms of 1 year\, 2) discuss the 2022 income and expenses and the 2023 approved budget. You should have already received a letter from Pindell-Wilson including details on how to access the Zoom meeting and how to submit your vote (or proxy) in advance of the meeting.
URL:https://braeloch-hoa.org/event/2023-annual-meeting/
LOCATION:Zoom meeting\, Cary\, NC\, United States
CATEGORIES:Meeting
END:VEVENT
END:VCALENDAR