BEGIN:VCALENDAR
VERSION:2.0
PRODID:-//Braeloch Homeowners Association - ECPv6.15.18//NONSGML v1.0//EN
CALSCALE:GREGORIAN
METHOD:PUBLISH
X-WR-CALNAME:Braeloch Homeowners Association
X-ORIGINAL-URL:https://braeloch-hoa.org
X-WR-CALDESC:Events for Braeloch Homeowners Association
REFRESH-INTERVAL;VALUE=DURATION:PT1H
X-Robots-Tag:noindex
X-PUBLISHED-TTL:PT1H
BEGIN:VTIMEZONE
TZID:America/New_York
BEGIN:DAYLIGHT
TZOFFSETFROM:-0500
TZOFFSETTO:-0400
TZNAME:EDT
DTSTART:20220313T070000
END:DAYLIGHT
BEGIN:STANDARD
TZOFFSETFROM:-0400
TZOFFSETTO:-0500
TZNAME:EST
DTSTART:20221106T060000
END:STANDARD
BEGIN:DAYLIGHT
TZOFFSETFROM:-0500
TZOFFSETTO:-0400
TZNAME:EDT
DTSTART:20230312T070000
END:DAYLIGHT
BEGIN:STANDARD
TZOFFSETFROM:-0400
TZOFFSETTO:-0500
TZNAME:EST
DTSTART:20231105T060000
END:STANDARD
BEGIN:DAYLIGHT
TZOFFSETFROM:-0500
TZOFFSETTO:-0400
TZNAME:EDT
DTSTART:20240310T070000
END:DAYLIGHT
BEGIN:STANDARD
TZOFFSETFROM:-0400
TZOFFSETTO:-0500
TZNAME:EST
DTSTART:20241103T060000
END:STANDARD
BEGIN:DAYLIGHT
TZOFFSETFROM:-0500
TZOFFSETTO:-0400
TZNAME:EDT
DTSTART:20250309T070000
END:DAYLIGHT
BEGIN:STANDARD
TZOFFSETFROM:-0400
TZOFFSETTO:-0500
TZNAME:EST
DTSTART:20251102T060000
END:STANDARD
END:VTIMEZONE
BEGIN:VEVENT
DTSTART;TZID=America/New_York:20240418T183000
DTEND;TZID=America/New_York:20240418T193000
DTSTAMP:20260421T161617
CREATED:20240215T232905Z
LAST-MODIFIED:20240418T160439Z
UID:435-1713465000-1713468600@braeloch-hoa.org
SUMMARY:HOA Board Meeting 2024-04-18 @ 6:30PM (Updated)
DESCRIPTION:Agenda may be found by clicking here (Last Updated: 2024-04-12) \n\n\n\nIncluded is the 2024 Landscaping Committee proposal and the new rules and guidelines for the Homeowner Forum portion of the meeting. If you have any feedback prior to the meeting please review the agenda and send feedback to braelochboardhoa@gmail.com. \n\nJoin with Google Meet: https://meet.google.com/bzr-uhdq-hzhOr dial: (US) +1 929-276-0454 PIN: 536719764#More phone numbers: https://tel.meet/bzr-uhdq-hzh?pin=9618920702630&hs=7
URL:https://braeloch-hoa.org/event/2024-meeting-1/
LOCATION:Zoom meeting\, Cary\, NC\, United States
CATEGORIES:Meeting
END:VEVENT
BEGIN:VEVENT
DTSTART;TZID=America/New_York:20240403T210000
DTEND;TZID=America/New_York:20240403T220000
DTSTAMP:20260421T161617
CREATED:20240331T142221Z
LAST-MODIFIED:20240912T160912Z
UID:563-1712178000-1712181600@braeloch-hoa.org
SUMMARY:HOA Board Executive Session
DESCRIPTION:Agenda: Board SOPs\, Violations
URL:https://braeloch-hoa.org/event/2024-01-executive-session/
LOCATION:Zoom meeting\, Cary\, NC\, United States
END:VEVENT
BEGIN:VEVENT
DTSTART;TZID=America/New_York:20240328T200000
DTEND;TZID=America/New_York:20240328T210000
DTSTAMP:20260421T161617
CREATED:20240321T000542Z
LAST-MODIFIED:20240326T235833Z
UID:554-1711656000-1711659600@braeloch-hoa.org
SUMMARY:March Landscaping Committee Meeting
DESCRIPTION:Topic: Committee discussion of suggestions and proposals relating to landscaping for 2024. \nThere will not be public comments during this call. Please send any suggestions to braelochboardhoa+landscaping@gmail.com \n\nJoin Zoom Meeting\n\nhttps://us06web.zoom.us/j/85282936297?pwd=6lmT1zC9pDAU4prMbG6bRQDsZ1bnVR.1\n\nMeeting ID: 852 8293 6297\nPasscode: 801230
URL:https://braeloch-hoa.org/event/landscaping-committee-meeting-2024-1/
LOCATION:Zoom meeting\, Cary\, NC\, United States
END:VEVENT
BEGIN:VEVENT
DTSTART;TZID=America/New_York:20240320T203000
DTEND;TZID=America/New_York:20240320T213000
DTSTAMP:20260421T161617
CREATED:20240410T161212Z
LAST-MODIFIED:20240410T161212Z
UID:578-1710966600-1710970200@braeloch-hoa.org
SUMMARY:2024 Regular Meeting of Board of Directors
DESCRIPTION:
URL:https://braeloch-hoa.org/event/2024-regular-meeting-of-board-of-directors/
LOCATION:Zoom meeting\, Cary\, NC\, United States
END:VEVENT
BEGIN:VEVENT
DTSTART;TZID=America/New_York:20240215T190000
DTEND;TZID=America/New_York:20240215T200000
DTSTAMP:20260421T161617
CREATED:20240212T170809Z
LAST-MODIFIED:20240912T165143Z
UID:422-1708023600-1708027200@braeloch-hoa.org
SUMMARY:2024 Annual Meeting (Google Meet via Cedar)
DESCRIPTION:The Annual Meeting will be held on February 15\, 2024 from 7pm-8pm. You should have received the annual meeting packet by email and mail.
URL:https://braeloch-hoa.org/event/2024-annual-meeting-google-meet-via-cedar/
CATEGORIES:Meeting
END:VEVENT
BEGIN:VEVENT
DTSTART;TZID=America/New_York:20230628T190000
DTEND;TZID=America/New_York:20230628T203000
DTSTAMP:20260421T161617
CREATED:20230605T160009Z
LAST-MODIFIED:20230605T160009Z
UID:399-1687978800-1687984200@braeloch-hoa.org
SUMMARY:Town Hall – June 28th 2023
DESCRIPTION:Hello neighbors\, \nWe would love to hear from you and provide updates on what your board of directors have been working on. We plan to hold a “Town Hall” on June 28th at the neighborhood playground from 7pm-8:30pm. We encourage homeowners to bring a chair or blanket for seating. \nYou can find details for this and any future board news on the new Braeloch website: https://braeloch-hoa.org/ \nHope to see you there! \nYour HOA Board of Directors
URL:https://braeloch-hoa.org/event/town-hall-june-28th-2023/
LOCATION:Playground\, 102 Prynnwood Ct\, Cary\, NC\, 27513\, United States
END:VEVENT
BEGIN:VEVENT
DTSTART;TZID=America/New_York:20230208T183000
DTEND;TZID=America/New_York:20230208T193000
DTSTAMP:20260421T161617
CREATED:20230120T192210Z
LAST-MODIFIED:20230121T005326Z
UID:39-1675881000-1675884600@braeloch-hoa.org
SUMMARY:2023 Annual Meeting
DESCRIPTION:The Annual Meeting of the Braeloch Homeowners Association will be held at 6:30 PM on Wednesday\, February 8\, 2023 via Zoom. The sole purpose of the meeting is to 1) Elect 2 new board members for expiring terms of 1 year\, 2) discuss the 2022 income and expenses and the 2023 approved budget. You should have already received a letter from Pindell-Wilson including details on how to access the Zoom meeting and how to submit your vote (or proxy) in advance of the meeting.
URL:https://braeloch-hoa.org/event/2023-annual-meeting/
LOCATION:Zoom meeting\, Cary\, NC\, United States
CATEGORIES:Meeting
END:VEVENT
END:VCALENDAR