BEGIN:VCALENDAR
VERSION:2.0
PRODID:-//Braeloch Homeowners Association - ECPv6.15.18//NONSGML v1.0//EN
CALSCALE:GREGORIAN
METHOD:PUBLISH
X-WR-CALNAME:Braeloch Homeowners Association
X-ORIGINAL-URL:https://braeloch-hoa.org
X-WR-CALDESC:Events for Braeloch Homeowners Association
REFRESH-INTERVAL;VALUE=DURATION:PT1H
X-Robots-Tag:noindex
X-PUBLISHED-TTL:PT1H
BEGIN:VTIMEZONE
TZID:America/New_York
BEGIN:DAYLIGHT
TZOFFSETFROM:-0500
TZOFFSETTO:-0400
TZNAME:EDT
DTSTART:20240310T070000
END:DAYLIGHT
BEGIN:STANDARD
TZOFFSETFROM:-0400
TZOFFSETTO:-0500
TZNAME:EST
DTSTART:20241103T060000
END:STANDARD
BEGIN:DAYLIGHT
TZOFFSETFROM:-0500
TZOFFSETTO:-0400
TZNAME:EDT
DTSTART:20250309T070000
END:DAYLIGHT
BEGIN:STANDARD
TZOFFSETFROM:-0400
TZOFFSETTO:-0500
TZNAME:EST
DTSTART:20251102T060000
END:STANDARD
BEGIN:DAYLIGHT
TZOFFSETFROM:-0500
TZOFFSETTO:-0400
TZNAME:EDT
DTSTART:20260308T070000
END:DAYLIGHT
BEGIN:STANDARD
TZOFFSETFROM:-0400
TZOFFSETTO:-0500
TZNAME:EST
DTSTART:20261101T060000
END:STANDARD
END:VTIMEZONE
BEGIN:VEVENT
DTSTART;TZID=America/New_York:20250213T183000
DTEND;TZID=America/New_York:20250213T193000
DTSTAMP:20260421T191517
CREATED:20250206T001119Z
LAST-MODIFIED:20250206T001119Z
UID:727-1739471400-1739475000@braeloch-hoa.org
SUMMARY:2025 Annual Meeting
DESCRIPTION:2025 Annual Meeting February 13\, 2025
URL:https://braeloch-hoa.org/event/2025-annual-meeting/
LOCATION:Zoom meeting\, Cary\, NC\, United States
END:VEVENT
END:VCALENDAR